BEGIN:VCALENDAR
VERSION:2.0
PRODID:-//https://grimfells.calontir.org///NONSGML kigkonsult.se iCalcreator 2.10.15//
METHOD:PUBLISH
BEGIN:VEVENT
UID:20260420T195923PDT-1803Uevfvx@https://grimfells.calontir.org/
DTSTAMP:20260421T025923Z
DESCRIPTION:It’s that time again… We will be having the business meeting at
  the Rogers Public Library\, located at the 711 S Dixieland Rd\, Rogers\, 
 AR 72758 https://grimfells.calontir.org/calendar/event/1699-shire-meeting
DTSTART:20250103T000000Z
DTEND:20250103T010000Z
LOCATION:711 S Dixieland Rd\, Rogers\, AR 72758 (711 S Dixieland Rd\, Roger
 s\, AR 72758\, USA)
SUMMARY:Shire Meeting
URL:https://grimfells.calontir.org/calendar/event/1699-shire-meeting
END:VEVENT
END:VCALENDAR
